BEGIN:VCALENDAR
VERSION:2.0
PRODID:-//CAC for Rockwall County | Children&#039;s Advocacy Center - ECPv6.15.14//NONSGML v1.0//EN
CALSCALE:GREGORIAN
METHOD:PUBLISH
X-ORIGINAL-URL:https://rockwallcac.org
X-WR-CALDESC:Events for CAC for Rockwall County | Children&#039;s Advocacy Center
REFRESH-INTERVAL;VALUE=DURATION:PT1H
X-Robots-Tag:noindex
X-PUBLISHED-TTL:PT1H
BEGIN:VTIMEZONE
TZID:America/Chicago
BEGIN:DAYLIGHT
TZOFFSETFROM:-0600
TZOFFSETTO:-0500
TZNAME:CDT
DTSTART:20250309T080000
END:DAYLIGHT
BEGIN:STANDARD
TZOFFSETFROM:-0500
TZOFFSETTO:-0600
TZNAME:CST
DTSTART:20251102T070000
END:STANDARD
BEGIN:DAYLIGHT
TZOFFSETFROM:-0600
TZOFFSETTO:-0500
TZNAME:CDT
DTSTART:20260308T080000
END:DAYLIGHT
BEGIN:STANDARD
TZOFFSETFROM:-0500
TZOFFSETTO:-0600
TZNAME:CST
DTSTART:20261101T070000
END:STANDARD
BEGIN:DAYLIGHT
TZOFFSETFROM:-0600
TZOFFSETTO:-0500
TZNAME:CDT
DTSTART:20270314T080000
END:DAYLIGHT
BEGIN:STANDARD
TZOFFSETFROM:-0500
TZOFFSETTO:-0600
TZNAME:CST
DTSTART:20271107T070000
END:STANDARD
END:VTIMEZONE
BEGIN:VEVENT
DTSTART;TZID=America/Chicago:20260331T173000
DTEND;TZID=America/Chicago:20260331T183000
DTSTAMP:20260425T195227
CREATED:20260324T151749Z
LAST-MODIFIED:20260324T163846Z
UID:1549-1774978200-1774981800@rockwallcac.org
SUMMARY:Pinwheels for Prevention 
DESCRIPTION:Pinwheels for Prevention\n\n March 31\, 2026\n 5:30 – 6:30 PM\n Downtown Rockwall Historic Courthouse\, Rockwall\, TX\n\nChildren’s Advocacy Center\, Lone Star CASA\, and Rainbow Room join together to “plant” a pinwheel garden. Each pinwheel “planted” represents a child served last year by one of the organizations. The pinwheel garden will be at the Rockwall County Historic Courthouse during the month of April\, which is Child Abuse Prevention Month. Join us for a ceremony on March 31st from 5:30PM to 6:30PM to bring awareness to the importance of child abuse prevention and learn how these organizations make a difference for victims of child abuse. 
URL:https://rockwallcac.org/event/pinwheels-for-prevention/
LOCATION:Downtown Rockwall Historic Courthouse\, 101 E Rusk St\, Rockwall\, TX\, 75087\, United States
CATEGORIES:Fund Raiser
ATTACH;FMTTYPE=image/jpeg:https://rockwallcac.org/wp-content/uploads/2026/03/Pinwheels-for-Prevention-Website-Banners-WEB.jpg
ORGANIZER;CN="Rockwall CAC":MAILTO:sryan@rockwallcac.org
END:VEVENT
END:VCALENDAR