BEGIN:VCALENDAR
VERSION:2.0
PRODID:-//CAC for Rockwall County | Children&#039;s Advocacy Center - ECPv6.15.14//NONSGML v1.0//EN
CALSCALE:GREGORIAN
METHOD:PUBLISH
X-WR-CALNAME:CAC for Rockwall County | Children&#039;s Advocacy Center
X-ORIGINAL-URL:https://rockwallcac.org
X-WR-CALDESC:Events for CAC for Rockwall County | Children&#039;s Advocacy Center
REFRESH-INTERVAL;VALUE=DURATION:PT1H
X-Robots-Tag:noindex
X-PUBLISHED-TTL:PT1H
BEGIN:VTIMEZONE
TZID:America/Chicago
BEGIN:DAYLIGHT
TZOFFSETFROM:-0600
TZOFFSETTO:-0500
TZNAME:CDT
DTSTART:20230312T080000
END:DAYLIGHT
BEGIN:STANDARD
TZOFFSETFROM:-0500
TZOFFSETTO:-0600
TZNAME:CST
DTSTART:20231105T070000
END:STANDARD
BEGIN:DAYLIGHT
TZOFFSETFROM:-0600
TZOFFSETTO:-0500
TZNAME:CDT
DTSTART:20240310T080000
END:DAYLIGHT
BEGIN:STANDARD
TZOFFSETFROM:-0500
TZOFFSETTO:-0600
TZNAME:CST
DTSTART:20241103T070000
END:STANDARD
BEGIN:DAYLIGHT
TZOFFSETFROM:-0600
TZOFFSETTO:-0500
TZNAME:CDT
DTSTART:20250309T080000
END:DAYLIGHT
BEGIN:STANDARD
TZOFFSETFROM:-0500
TZOFFSETTO:-0600
TZNAME:CST
DTSTART:20251102T070000
END:STANDARD
END:VTIMEZONE
BEGIN:VEVENT
DTSTART;TZID=America/Chicago:20241017T180000
DTEND;TZID=America/Chicago:20241017T180000
DTSTAMP:20260425T225714
CREATED:20240927T160825Z
LAST-MODIFIED:20240927T160825Z
UID:263-1729188000-1729188000@rockwallcac.org
SUMMARY:Bourbon With The Boys
DESCRIPTION:Join us October 17th at the 360 Bar & Lounge in Rockwall\, TX for an exclusive bourbon tasting experience\, benefitting the Children’s Advocacy Center for Rockwall County. Tickets & sponsorships available now. For questions\, please reach out to sryan@rockwallcac.org.
URL:https://rockwallcac.org/event/bourbon-with-the-boys/
LOCATION:360 Bar & Lounge\, 2101 Summer Lee. Dr K110\, Rockwall\, TX\, 75087\, United States
CATEGORIES:Fund Raiser
ATTACH;FMTTYPE=image/png:https://rockwallcac.org/wp-content/uploads/2024/09/Bourbon-With-the-Boys.png
ORGANIZER;CN="Rockwall CAC":MAILTO:sryan@rockwallcac.org
END:VEVENT
END:VCALENDAR