BEGIN:VCALENDAR
VERSION:2.0
PRODID:-//CAC for Rockwall County | Children&#039;s Advocacy Center - ECPv6.15.14//NONSGML v1.0//EN
CALSCALE:GREGORIAN
METHOD:PUBLISH
X-WR-CALNAME:CAC for Rockwall County | Children&#039;s Advocacy Center
X-ORIGINAL-URL:https://rockwallcac.org
X-WR-CALDESC:Events for CAC for Rockwall County | Children&#039;s Advocacy Center
REFRESH-INTERVAL;VALUE=DURATION:PT1H
X-Robots-Tag:noindex
X-PUBLISHED-TTL:PT1H
BEGIN:VTIMEZONE
TZID:America/Chicago
BEGIN:DAYLIGHT
TZOFFSETFROM:-0600
TZOFFSETTO:-0500
TZNAME:CDT
DTSTART:20250309T080000
END:DAYLIGHT
BEGIN:STANDARD
TZOFFSETFROM:-0500
TZOFFSETTO:-0600
TZNAME:CST
DTSTART:20251102T070000
END:STANDARD
BEGIN:DAYLIGHT
TZOFFSETFROM:-0600
TZOFFSETTO:-0500
TZNAME:CDT
DTSTART:20260308T080000
END:DAYLIGHT
BEGIN:STANDARD
TZOFFSETFROM:-0500
TZOFFSETTO:-0600
TZNAME:CST
DTSTART:20261101T070000
END:STANDARD
BEGIN:DAYLIGHT
TZOFFSETFROM:-0600
TZOFFSETTO:-0500
TZNAME:CDT
DTSTART:20270314T080000
END:DAYLIGHT
BEGIN:STANDARD
TZOFFSETFROM:-0500
TZOFFSETTO:-0600
TZNAME:CST
DTSTART:20271107T070000
END:STANDARD
END:VTIMEZONE
BEGIN:VEVENT
DTSTART;TZID=America/Chicago:20260310T120000
DTEND;TZID=America/Chicago:20260310T130000
DTSTAMP:20260425T230850
CREATED:20260106T191211Z
LAST-MODIFIED:20260106T191213Z
UID:1509-1773144000-1773147600@rockwallcac.org
SUMMARY:CAC 101
DESCRIPTION:Registration\n			\n			\n				\n				\n				\n				\n				\n				\n				\n				\n				\n				In our CAC 101 training\, you will learn about who we are\, what we do\, and how you can get involved in making a difference for the children and families we serve.
URL:https://rockwallcac.org/event/cac-101-3/
LOCATION:CAC Online Session
CATEGORIES:Information Session
ATTACH;FMTTYPE=image/png:https://rockwallcac.org/wp-content/uploads/2026/01/cac-101-1080x567-1.png
ORGANIZER;CN="Rockwall CAC - Information Session":MAILTO:education@rockwallcac.org
END:VEVENT
BEGIN:VEVENT
DTSTART;TZID=America/Chicago:20260326T043000
DTEND;TZID=America/Chicago:20260326T190000
DTSTAMP:20260425T230851
CREATED:20260129T221452Z
LAST-MODIFIED:20260129T222125Z
UID:1530-1774499400-1774551600@rockwallcac.org
SUMMARY:2026 Kickoff Party for Child Abuse Prevention Month
DESCRIPTION:Join us for the 8th Annual Kickoff Party for Child Abuse Prevention Month and our Go Blue for Kids Campaign!\n\n March 26\, 2026\n 4:30 – 7:00 PM\n Standard Service\, Heath\, TX\n\nBring the whole family as we celebrate the community coming together to stand against child abuse.  We will recognize local businesses and supporters that run “Go Blue for Kids” promos/events throughout the month of April. Together we are building a safer & healthier community! \n\n			\n				Sponsorships & Event Details
URL:https://rockwallcac.org/event/2026-kickoff-party-for-child-abuse-prevention-month/
LOCATION:Standard Service\, 4240 Ridge Rd\,\, Heath\, TX\, 75032\, United States
ATTACH;FMTTYPE=image/png:https://rockwallcac.org/wp-content/uploads/2026/01/CAC-Kickoff-Banner-for-website.png
ORGANIZER;CN="Rockwall CAC":MAILTO:sryan@rockwallcac.org
END:VEVENT
BEGIN:VEVENT
DTSTART;TZID=America/Chicago:20260331T173000
DTEND;TZID=America/Chicago:20260331T183000
DTSTAMP:20260425T230851
CREATED:20260324T151749Z
LAST-MODIFIED:20260324T163846Z
UID:1549-1774978200-1774981800@rockwallcac.org
SUMMARY:Pinwheels for Prevention 
DESCRIPTION:Pinwheels for Prevention\n\n March 31\, 2026\n 5:30 – 6:30 PM\n Downtown Rockwall Historic Courthouse\, Rockwall\, TX\n\nChildren’s Advocacy Center\, Lone Star CASA\, and Rainbow Room join together to “plant” a pinwheel garden. Each pinwheel “planted” represents a child served last year by one of the organizations. The pinwheel garden will be at the Rockwall County Historic Courthouse during the month of April\, which is Child Abuse Prevention Month. Join us for a ceremony on March 31st from 5:30PM to 6:30PM to bring awareness to the importance of child abuse prevention and learn how these organizations make a difference for victims of child abuse. 
URL:https://rockwallcac.org/event/pinwheels-for-prevention/
LOCATION:Downtown Rockwall Historic Courthouse\, 101 E Rusk St\, Rockwall\, TX\, 75087\, United States
CATEGORIES:Fund Raiser
ATTACH;FMTTYPE=image/jpeg:https://rockwallcac.org/wp-content/uploads/2026/03/Pinwheels-for-Prevention-Website-Banners-WEB.jpg
ORGANIZER;CN="Rockwall CAC":MAILTO:sryan@rockwallcac.org
END:VEVENT
BEGIN:VEVENT
DTSTART;TZID=America/Chicago:20260414T120000
DTEND;TZID=America/Chicago:20260414T130000
DTSTAMP:20260425T230851
CREATED:20260106T191328Z
LAST-MODIFIED:20260410T152251Z
UID:1514-1776168000-1776171600@rockwallcac.org
SUMMARY:CAC 101
DESCRIPTION:Registration\n			\n			\n				\n				\n				\n				\n				\n				\n				\n				\n				\n				In our CAC 101 training\, you will learn about who we are\, what we do\, and how you can get involved in making a difference for the children and families we serve.
URL:https://rockwallcac.org/event/cac-101-4/
LOCATION:CAC Online Session
CATEGORIES:Information Session
ATTACH;FMTTYPE=image/png:https://rockwallcac.org/wp-content/uploads/2026/01/cac-101-1080x567-1.png
ORGANIZER;CN="Rockwall CAC - Information Session":MAILTO:education@rockwallcac.org
END:VEVENT
BEGIN:VEVENT
DTSTART;TZID=America/Chicago:20260425T173000
DTEND;TZID=America/Chicago:20260425T230000
DTSTAMP:20260425T230851
CREATED:20251209T203151Z
LAST-MODIFIED:20260129T222402Z
UID:1468-1777138200-1777158000@rockwallcac.org
SUMMARY:10th Annual Go Blue for Kids Gala
DESCRIPTION:10th Annual Go Blue for Kids Gala Presented by Baylor Scott & White – Lake Pointe\nThis special milestone event will take place on April 25\, 2026\, and we’re bringing all the sparkle with a disco-themed celebration!\nAs we prepare for this unforgettable evening\, we’ll be reflecting on our past decade of impact so we can continue shaping a brighter future for the children and families we serve.\nJoin us for an unforgettable evening in support of the Children’s Advocacy Center for Rockwall County.\nSponsorships and Tickets are AVAILABLE!\n \nMake a weekend out of it and stay at one of Rockwall’s beautiful hotels: http://www.rockwall.com/hotels.asp\nFor more information\, please contact us at gala@rockwallcac.org\n			\n			\n				\n				\n				\n				\n				\n				Gala Details\, Tickets\, & Sponsorships
URL:https://rockwallcac.org/event/10th-annual-go-blue-for-kids-gala/
LOCATION:The Hilton Rockwall/Dallas Lakefront\, 2055 Summer Lee Drive\, Rockwall\, TX\, 75032
CATEGORIES:Fund Raiser
ATTACH;FMTTYPE=image/png:https://rockwallcac.org/wp-content/uploads/2026/01/CAC-Go-Blue-Kids-Gala.png
ORGANIZER;CN="Rockwall CAC":MAILTO:sryan@rockwallcac.org
END:VEVENT
BEGIN:VEVENT
DTSTART;TZID=America/Chicago:20260512T120000
DTEND;TZID=America/Chicago:20260512T130000
DTSTAMP:20260425T230851
CREATED:20260106T191441Z
LAST-MODIFIED:20260106T191443Z
UID:1521-1778587200-1778590800@rockwallcac.org
SUMMARY:CAC 101
DESCRIPTION:Registration\n			\n			\n				\n				\n				\n				\n				\n				\n				\n				\n				\n				In our CAC 101 training\, you will learn about who we are\, what we do\, and how you can get involved in making a difference for the children and families we serve.
URL:https://rockwallcac.org/event/cac-101-5/
LOCATION:CAC Online Session
CATEGORIES:Information Session
ATTACH;FMTTYPE=image/png:https://rockwallcac.org/wp-content/uploads/2026/01/cac-101-1080x567-1.png
ORGANIZER;CN="Rockwall CAC - Information Session":MAILTO:education@rockwallcac.org
END:VEVENT
BEGIN:VEVENT
DTSTART;TZID=America/Chicago:20260609T120000
DTEND;TZID=America/Chicago:20260609T130000
DTSTAMP:20260425T230851
CREATED:20260410T152631Z
LAST-MODIFIED:20260410T153219Z
UID:1606-1781006400-1781010000@rockwallcac.org
SUMMARY:CAC 101
DESCRIPTION:Registration\n			\n			\n				\n				\n				\n				\n				\n				\n				\n				\n				\n				In our CAC 101 training\, you will learn about who we are\, what we do\, and how you can get involved in making a difference for the children and families we serve.
URL:https://rockwallcac.org/event/cac-101-june-2026/
LOCATION:CAC Online Session
CATEGORIES:Information Session
ATTACH;FMTTYPE=image/png:https://rockwallcac.org/wp-content/uploads/2026/01/cac-101-1080x567-1.png
ORGANIZER;CN="Rockwall CAC - Information Session":MAILTO:education@rockwallcac.org
END:VEVENT
BEGIN:VEVENT
DTSTART;TZID=America/Chicago:20260714T120000
DTEND;TZID=America/Chicago:20260714T130000
DTSTAMP:20260425T230851
CREATED:20260410T152831Z
LAST-MODIFIED:20260410T153232Z
UID:1612-1784030400-1784034000@rockwallcac.org
SUMMARY:CAC 101
DESCRIPTION:Registration\n			\n			\n				\n				\n				\n				\n				\n				\n				\n				\n				\n				In our CAC 101 training\, you will learn about who we are\, what we do\, and how you can get involved in making a difference for the children and families we serve.
URL:https://rockwallcac.org/event/cac-101-6/
LOCATION:CAC Online Session
CATEGORIES:Information Session
ATTACH;FMTTYPE=image/png:https://rockwallcac.org/wp-content/uploads/2026/01/cac-101-1080x567-1.png
ORGANIZER;CN="Rockwall CAC - Information Session":MAILTO:education@rockwallcac.org
END:VEVENT
BEGIN:VEVENT
DTSTART;TZID=America/Chicago:20260811T120000
DTEND;TZID=America/Chicago:20260811T130000
DTSTAMP:20260425T230851
CREATED:20260410T152944Z
LAST-MODIFIED:20260410T153246Z
UID:1616-1786449600-1786453200@rockwallcac.org
SUMMARY:CAC 101
DESCRIPTION:Registration\n			\n			\n				\n				\n				\n				\n				\n				\n				\n				\n				\n				In our CAC 101 training\, you will learn about who we are\, what we do\, and how you can get involved in making a difference for the children and families we serve.
URL:https://rockwallcac.org/event/cac-101-7/
LOCATION:CAC Online Session
CATEGORIES:Information Session
ATTACH;FMTTYPE=image/png:https://rockwallcac.org/wp-content/uploads/2026/01/cac-101-1080x567-1.png
ORGANIZER;CN="Rockwall CAC - Information Session":MAILTO:education@rockwallcac.org
END:VEVENT
BEGIN:VEVENT
DTSTART;TZID=America/Chicago:20260908T120000
DTEND;TZID=America/Chicago:20260908T130000
DTSTAMP:20260425T230851
CREATED:20260410T153114Z
LAST-MODIFIED:20260410T153116Z
UID:1620-1788868800-1788872400@rockwallcac.org
SUMMARY:CAC 101
DESCRIPTION:Registration\n			\n			\n				\n				\n				\n				\n				\n				\n				\n				\n				\n				In our CAC 101 training\, you will learn about who we are\, what we do\, and how you can get involved in making a difference for the children and families we serve.
URL:https://rockwallcac.org/event/cac-101-8/
LOCATION:CAC Online Session
CATEGORIES:Information Session
ATTACH;FMTTYPE=image/png:https://rockwallcac.org/wp-content/uploads/2026/01/cac-101-1080x567-1.png
ORGANIZER;CN="Rockwall CAC - Information Session":MAILTO:education@rockwallcac.org
END:VEVENT
END:VCALENDAR