BEGIN:VCALENDAR
VERSION:2.0
PRODID:-//CAC for Rockwall County | Children&#039;s Advocacy Center - ECPv6.15.14//NONSGML v1.0//EN
CALSCALE:GREGORIAN
METHOD:PUBLISH
X-WR-CALNAME:CAC for Rockwall County | Children&#039;s Advocacy Center
X-ORIGINAL-URL:https://rockwallcac.org
X-WR-CALDESC:Events for CAC for Rockwall County | Children&#039;s Advocacy Center
REFRESH-INTERVAL;VALUE=DURATION:PT1H
X-Robots-Tag:noindex
X-PUBLISHED-TTL:PT1H
BEGIN:VTIMEZONE
TZID:America/Chicago
BEGIN:DAYLIGHT
TZOFFSETFROM:-0600
TZOFFSETTO:-0500
TZNAME:CDT
DTSTART:20230312T080000
END:DAYLIGHT
BEGIN:STANDARD
TZOFFSETFROM:-0500
TZOFFSETTO:-0600
TZNAME:CST
DTSTART:20231105T070000
END:STANDARD
BEGIN:DAYLIGHT
TZOFFSETFROM:-0600
TZOFFSETTO:-0500
TZNAME:CDT
DTSTART:20240310T080000
END:DAYLIGHT
BEGIN:STANDARD
TZOFFSETFROM:-0500
TZOFFSETTO:-0600
TZNAME:CST
DTSTART:20241103T070000
END:STANDARD
BEGIN:DAYLIGHT
TZOFFSETFROM:-0600
TZOFFSETTO:-0500
TZNAME:CDT
DTSTART:20250309T080000
END:DAYLIGHT
BEGIN:STANDARD
TZOFFSETFROM:-0500
TZOFFSETTO:-0600
TZNAME:CST
DTSTART:20251102T070000
END:STANDARD
BEGIN:DAYLIGHT
TZOFFSETFROM:-0600
TZOFFSETTO:-0500
TZNAME:CDT
DTSTART:20260308T080000
END:DAYLIGHT
BEGIN:STANDARD
TZOFFSETFROM:-0500
TZOFFSETTO:-0600
TZNAME:CST
DTSTART:20261101T070000
END:STANDARD
END:VTIMEZONE
BEGIN:VEVENT
DTSTART;TZID=America/Chicago:20251118T120000
DTEND;TZID=America/Chicago:20251118T130000
DTSTAMP:20260425T230321
CREATED:20250818T184826Z
LAST-MODIFIED:20251107T202200Z
UID:1259-1763467200-1763470800@rockwallcac.org
SUMMARY:CAC 101
DESCRIPTION:Registration\n			\n			\n				\n				\n				\n				\n				\n				\n				\n				\n				\n				In our CAC 101 training\, you will learn about who we are\, what we do\, and how you can get involved in making a difference for the children and families we serve.
URL:https://rockwallcac.org/event/information-session-8/
LOCATION:CAC Online Session
CATEGORIES:Information Session
ATTACH;FMTTYPE=image/png:https://rockwallcac.org/wp-content/uploads/2025/09/cac-101.png
ORGANIZER;CN="Rockwall CAC - Information Session":MAILTO:education@rockwallcac.org
END:VEVENT
BEGIN:VEVENT
DTSTART;TZID=America/Chicago:20251023T180000
DTEND;TZID=America/Chicago:20251023T220000
DTSTAMP:20260425T230321
CREATED:20250512T210512Z
LAST-MODIFIED:20250922T184924Z
UID:1145-1761242400-1761256800@rockwallcac.org
SUMMARY:Bourbon with the Boys Hosted by Blue Tie Guy Ambassadors
DESCRIPTION:The Blue Tie Guy Ambassadors cordially invite you to an exclusive tasting experience featuring award-winning Milam & Greene Bourbon. Cigars provided by Eldorado Fine Cigars\, and hors d’oeuvres by our host\, Sear Steakhouse & Lounge. Proceeds benefit the Children’s Advocacy Center for Rockwall County. Must be 21 years or older to attend. Tickets and sponsorships are available. Contact Sarah Ryan at sryan@rockwallcac.org for more details. \n			\n			\n				\n				\n				\n				\n				\n				Sponsor & Tickets
URL:https://rockwallcac.org/event/bourbon-with-the-boys-hosted-by-blue-tie-guy-ambassadors/
LOCATION:Sear Steak House & Lounge\, 2101 Summer Lee Dr. K110\, Rockwall\, 75087\, United States
ATTACH;FMTTYPE=image/png:https://rockwallcac.org/wp-content/uploads/2025/05/Bourbon-with-the-Boys-Website-Banners-1200-x-630-px.png
END:VEVENT
BEGIN:VEVENT
DTSTART;TZID=America/Chicago:20251014T120000
DTEND;TZID=America/Chicago:20251014T130000
DTSTAMP:20260425T230321
CREATED:20250818T184546Z
LAST-MODIFIED:20250902T180755Z
UID:1253-1760443200-1760446800@rockwallcac.org
SUMMARY:CAC 101
DESCRIPTION:Registration\n			\n			\n				\n				\n				\n				\n				\n				\n				\n				\n				\n				In our CAC 101 training\, you will learn about who we are\, what we do\, and how you can get involved in making a difference for the children and families we serve.
URL:https://rockwallcac.org/event/information-session-7/
LOCATION:Children’s Advocacy Center for Rockwall County\, 1350 E. Washington St.\, Rockwall\, TX\, 75087\, United States
CATEGORIES:Information Session
ATTACH;FMTTYPE=image/png:https://rockwallcac.org/wp-content/uploads/2025/09/cac-101.png
ORGANIZER;CN="Rockwall CAC - Information Session":MAILTO:education@rockwallcac.org
END:VEVENT
BEGIN:VEVENT
DTSTART;VALUE=DATE:20250921
DTEND;VALUE=DATE:20250922
DTSTAMP:20260425T230321
CREATED:20250512T210417Z
LAST-MODIFIED:20250902T174117Z
UID:1142-1758412800-1758499199@rockwallcac.org
SUMMARY:10th Annual Bikes for Tykes Teddy Bear Ride
DESCRIPTION:Event Details\n			\n			\n				\n				\n				\n				\n				\n				\n				\n				\n				\n				Americas Guardians Motorcycle Club is hosting their 10th Annual Bikes for Tykes Teddy Bear Ride.
URL:https://rockwallcac.org/event/10th-annual-bikes-for-tykes-teddy-bear-ride/
LOCATION:Rockwall County Courthouse\, 1111 E Yellowjacket Ln\, Rockwall\, TX\, 75087\, United States
ATTACH;FMTTYPE=image/png:https://rockwallcac.org/wp-content/uploads/2025/09/10th-Annual-Bikes-for-Tykes-Website-Banner.png
ORGANIZER;CN="Bikes for Tykes":MAILTO:rockwallbikesfortykes@gmail.com
END:VEVENT
BEGIN:VEVENT
DTSTART;VALUE=DATE:20250918
DTEND;VALUE=DATE:20250919
DTSTAMP:20260425T230321
CREATED:20250905T142246Z
LAST-MODIFIED:20250906T171445Z
UID:1311-1758153600-1758239999@rockwallcac.org
SUMMARY:North Texas Giving Day
DESCRIPTION:
URL:https://rockwallcac.org/event/north-texas-giving-day/
ATTACH;FMTTYPE=image/png:https://rockwallcac.org/wp-content/uploads/2025/09/NTXGD-Website-Banner-1200-x-630-px.png
END:VEVENT
BEGIN:VEVENT
DTSTART;TZID=America/Chicago:20250913T160000
DTEND;TZID=America/Chicago:20250913T220000
DTSTAMP:20260425T230321
CREATED:20250512T210207Z
LAST-MODIFIED:20250527T192916Z
UID:1139-1757779200-1757800800@rockwallcac.org
SUMMARY:Bubbles & Bags -  Designer Purse Bingo
DESCRIPTION:Registration\n			\n			\n				\n				\n				\n				\n				\n				\n				\n				\n				\n				Join us for all the fun at Bubbles & Bags!
URL:https://rockwallcac.org/event/bubbles-bags-designer-purse-bingo/
LOCATION:Southfork Ranch\, 3700 Hogge Dr\, Parker\, TX\, 75002\, United States
CATEGORIES:Fund Raiser
ATTACH;FMTTYPE=image/png:https://rockwallcac.org/wp-content/uploads/2025/05/2025_05_27-Bubbles-and-Bags-2025-Website-Banner.png
ORGANIZER;CN="Bubbles & Bags":MAILTO:bubblesandbags@rockwallcac.org
END:VEVENT
BEGIN:VEVENT
DTSTART;TZID=America/Chicago:20250909T120000
DTEND;TZID=America/Chicago:20250909T130000
DTSTAMP:20260425T230321
CREATED:20250818T182928Z
LAST-MODIFIED:20250902T180829Z
UID:1247-1757419200-1757422800@rockwallcac.org
SUMMARY:CAC 101
DESCRIPTION:Registration\n			\n			\n				\n				\n				\n				\n				\n				\n				\n				\n				\n				In our CAC 101 training\, you will learn about who we are\, what we do\, and how you can get involved in making a difference for the children and families we serve.
URL:https://rockwallcac.org/event/information-session-6/
LOCATION:Children’s Advocacy Center for Rockwall County\, 1350 E. Washington St.\, Rockwall\, TX\, 75087\, United States
CATEGORIES:Information Session
ATTACH;FMTTYPE=image/png:https://rockwallcac.org/wp-content/uploads/2025/09/cac-101.png
ORGANIZER;CN="Rockwall CAC - Information Session":MAILTO:education@rockwallcac.org
END:VEVENT
BEGIN:VEVENT
DTSTART;TZID=America/Chicago:20250812T120000
DTEND;TZID=America/Chicago:20250812T130000
DTSTAMP:20260425T230321
CREATED:20250403T143300Z
LAST-MODIFIED:20250818T184734Z
UID:1108-1755000000-1755003600@rockwallcac.org
SUMMARY:Information Session
DESCRIPTION:Registration\n			\n			\n				\n				\n				\n				\n				\n				\n				\n				\n				\n				In our Information Session\, you will learn about who we are\, what we do\, and how you can get involved in making a difference for the children and families we serve.
URL:https://rockwallcac.org/event/information-session-5/
LOCATION:Children’s Advocacy Center for Rockwall County\, 1350 E. Washington St.\, Rockwall\, TX\, 75087\, United States
CATEGORIES:Information Session
ATTACH;FMTTYPE=image/jpeg:https://rockwallcac.org/wp-content/uploads/2025/04/info-session-calendar-WEB-1220-x-675.jpg
ORGANIZER;CN="Rockwall CAC - Information Session":MAILTO:education@rockwallcac.org
END:VEVENT
BEGIN:VEVENT
DTSTART;TZID=America/Chicago:20250708T120000
DTEND;TZID=America/Chicago:20250708T130000
DTSTAMP:20260425T230321
CREATED:20250403T143125Z
LAST-MODIFIED:20250520T202135Z
UID:1105-1751976000-1751979600@rockwallcac.org
SUMMARY:Information Session
DESCRIPTION:More Information\n			\n			\n				\n				\n				\n				\n				\n				\n				\n				\n				\n				In our Information Session\, you will learn about who we are\, what we do\, and how you can get involved in making a difference for the children and families we serve.
URL:https://rockwallcac.org/event/information-session-4/
LOCATION:Children’s Advocacy Center for Rockwall County\, 1350 E. Washington St.\, Rockwall\, TX\, 75087\, United States
ATTACH;FMTTYPE=image/jpeg:https://rockwallcac.org/wp-content/uploads/2025/04/info-session-calendar-WEB-1220-x-675.jpg
ORGANIZER;CN="Rockwall CAC - Information Session":MAILTO:education@rockwallcac.org
END:VEVENT
BEGIN:VEVENT
DTSTART;TZID=America/Chicago:20250610T120000
DTEND;TZID=America/Chicago:20250610T130000
DTSTAMP:20260425T230321
CREATED:20250403T142901Z
LAST-MODIFIED:20250520T202008Z
UID:1102-1749556800-1749560400@rockwallcac.org
SUMMARY:Information Session
DESCRIPTION:Registration\n			\n			\n				\n				\n				\n				\n				\n				\n				\n				\n				\n				In our Information Session\, you will learn about who we are\, what we do\, and how you can get involved in making a difference for the children and families we serve.
URL:https://rockwallcac.org/event/information-session-3/
LOCATION:Children’s Advocacy Center for Rockwall County\, 1350 E. Washington St.\, Rockwall\, TX\, 75087\, United States
CATEGORIES:Information Session
ATTACH;FMTTYPE=image/jpeg:https://rockwallcac.org/wp-content/uploads/2025/04/info-session-calendar-WEB-1220-x-675.jpg
ORGANIZER;CN="Rockwall CAC - Information Session":MAILTO:education@rockwallcac.org
END:VEVENT
BEGIN:VEVENT
DTSTART;TZID=America/Chicago:20250608T160000
DTEND;TZID=America/Chicago:20250608T220000
DTSTAMP:20260425T230321
CREATED:20250512T205327Z
LAST-MODIFIED:20250520T202225Z
UID:1135-1749398400-1749420000@rockwallcac.org
SUMMARY:Blue Tie Guy Family Fun Fest
DESCRIPTION:More Information\n			\n			\n				\n				\n				\n				\n				\n				\n				\n				\n				\n				Ready\, set\, GO make a difference! Join the Blue Tie Guy Ambassadors for an adrenaline-filled evening of go-kart racing\, simulators\, and burgers — all to support the Children’s Advocacy Center for Rockwall County. Grab your friends\, bring your competitive spirit\, and let the races begin!
URL:https://rockwallcac.org/event/blue-tie-guy-family-fun-fest/
LOCATION:Dallas Karting Complex\, 5025 FM1565\, Caddo Mills\, TX\, 75135\, United States
CATEGORIES:Fund Raiser
ATTACH;FMTTYPE=image/png:https://rockwallcac.org/wp-content/uploads/2025/05/image007.png
ORGANIZER;CN="Rockwall CAC":MAILTO:sryan@rockwallcac.org
END:VEVENT
BEGIN:VEVENT
DTSTART;TZID=America/Chicago:20250513T120000
DTEND;TZID=America/Chicago:20250513T130000
DTSTAMP:20260425T230321
CREATED:20250403T141208Z
LAST-MODIFIED:20250520T202016Z
UID:1095-1747137600-1747141200@rockwallcac.org
SUMMARY:Information Session
DESCRIPTION:Registration\n			\n			\n				\n				\n				\n				\n				\n				\n				\n				\n				\n				In our Information Session\, you will learn about who we are\, what we do\, and how you can get involved in making a difference for the children and families we serve.
URL:https://rockwallcac.org/event/information-session-2/
LOCATION:Children’s Advocacy Center for Rockwall County\, 1350 E. Washington St.\, Rockwall\, TX\, 75087\, United States
CATEGORIES:Information Session
ATTACH;FMTTYPE=image/jpeg:https://rockwallcac.org/wp-content/uploads/2025/04/info-session-calendar-WEB.jpg
ORGANIZER;CN="Rockwall CAC - Information Session":MAILTO:education@rockwallcac.org
END:VEVENT
BEGIN:VEVENT
DTSTART;TZID=America/Chicago:20250426T173000
DTEND;TZID=America/Chicago:20250426T220000
DTSTAMP:20260425T230321
CREATED:20250321T132322Z
LAST-MODIFIED:20250520T202228Z
UID:683-1745688600-1745704800@rockwallcac.org
SUMMARY:Go Blue for Kids Gala
DESCRIPTION:We are On Cloud Nine for our 9th Annual Go Blue for Kids Gala presented by Baylor Scott & White Medical Center – Lake Pointe. \nJoin us for an unforgettable evening in support of the Children’s Advocacy Center for Rockwall County. \n  \nDate:  Saturday April 26th\, 2025 \n5:30 PM VIP Registration Opens \n6:00 PM Registration \n6:30 PM Ballroom Doors Open \n7:00 PM Program Begins \nLocation:  The Hilton Rockwall/Dallas Lakefront \n2055 Summer Lee Drive Rockwall\, TX 75032 \n  \nGala Highlights \nPre-dinner Entertainment & Games\nChampagne Welcome\nPhoto Booth\nPhoto 360\nPunch a Prize\nTreasure Chest\nDinner & Program\nSilent & Live Auctions\nCall to Action\nDance Party with Juke Box Heroes\nYour presence and support at the Gala will make a meaningful difference in the lives of children in our community that have been affected by abuse\, providing them with the care\, protection\, and resources they need to thrive. We look forward to spending the evening with you and raising money for abused children in our community who need us most. \nMake a weekend out of it and stay at one of Rockwall’s beautiful hotels: http://www.rockwall.com/hotels.asp \nFor more information\, please contact us at gala@rockwallcac.org \n\n\n\n\n\nVIP Sponsors
URL:https://rockwallcac.org/event/go-blue-for-kids-gala/
LOCATION:The Hilton Rockwall/Dallas Lakefront\, 2055 Summer Lee Drive\, Rockwall\, TX\, 75032
CATEGORIES:Fund Raiser
ATTACH;FMTTYPE=image/png:https://rockwallcac.org/wp-content/uploads/2025/03/Gala-2025-Website-Banner-1200-x-630-px.png
ORGANIZER;CN="Rockwall CAC":MAILTO:sryan@rockwallcac.org
END:VEVENT
BEGIN:VEVENT
DTSTART;TZID=America/Chicago:20250408T120000
DTEND;TZID=America/Chicago:20250408T130000
DTSTAMP:20260425T230321
CREATED:20250403T134916Z
LAST-MODIFIED:20250520T202021Z
UID:1081-1744113600-1744117200@rockwallcac.org
SUMMARY:Information Session
DESCRIPTION:Registration\n			\n			\n				\n				\n				\n				\n				\n				\n				\n				\n				\n				In our Information Session\, you will learn about who we are\, what we do\, and how you can get involved in making a difference for the children and families we serve.
URL:https://rockwallcac.org/event/information-session/
LOCATION:Children’s Advocacy Center for Rockwall County\, 1350 E. Washington St.\, Rockwall\, TX\, 75087\, United States
CATEGORIES:Information Session
ATTACH;FMTTYPE=image/jpeg:https://rockwallcac.org/wp-content/uploads/2025/04/info-session-calendar-WEB-1220-x-675.jpg
ORGANIZER;CN="Rockwall CAC - Information Session":MAILTO:education@rockwallcac.org
END:VEVENT
BEGIN:VEVENT
DTSTART;TZID=America/Chicago:20250327T163000
DTEND;TZID=America/Chicago:20250327T193000
DTSTAMP:20260425T230321
CREATED:20250310T145248Z
LAST-MODIFIED:20250312T144900Z
UID:409-1743093000-1743103800@rockwallcac.org
SUMMARY:Annual Go Blue for Kids Kickoff Party
DESCRIPTION:Join us for the Annual “Go Blue for Kids” Kickoff Party! \nSPONSORSHIPS AVAILABLE!   \nWe will be at Standard Service in Heath\, TX from 4:30pm to 7:30pm. \nBring the whole family as we celebrate the community coming together to stand against child abuse. We will have live entertainment\, cotton candy\, prizes\, a kid zone\, and so much more. We will also recognize local businesses and supporters that run “Go Blue for Kids” promos/events throughout the month of April. Together we are building a safer & healthier community! \nMake sure to RSVP to be entered for a chance to win a door prize! \nMake sure to RSVP to be entered for a chance to win a door prize! \n \nInterested in being a Sponsor for this event?
URL:https://rockwallcac.org/event/annual-go-blue-for-kids-kickoff-party/
LOCATION:Standard Service\, 4240 Ridge Rd\,\, Heath\, TX\, 75032\, United States
CATEGORIES:Fund Raiser
ATTACH;FMTTYPE=image/png:https://rockwallcac.org/wp-content/uploads/2025/03/2025-Kickoff-Website-Banner-1580-x-360-px.png
END:VEVENT
BEGIN:VEVENT
DTSTART;TZID=America/Chicago:20241017T180000
DTEND;TZID=America/Chicago:20241017T180000
DTSTAMP:20260425T230321
CREATED:20240927T160825Z
LAST-MODIFIED:20240927T160825Z
UID:263-1729188000-1729188000@rockwallcac.org
SUMMARY:Bourbon With The Boys
DESCRIPTION:Join us October 17th at the 360 Bar & Lounge in Rockwall\, TX for an exclusive bourbon tasting experience\, benefitting the Children’s Advocacy Center for Rockwall County. Tickets & sponsorships available now. For questions\, please reach out to sryan@rockwallcac.org.
URL:https://rockwallcac.org/event/bourbon-with-the-boys/
LOCATION:360 Bar & Lounge\, 2101 Summer Lee. Dr K110\, Rockwall\, TX\, 75087\, United States
CATEGORIES:Fund Raiser
ATTACH;FMTTYPE=image/png:https://rockwallcac.org/wp-content/uploads/2024/09/Bourbon-With-the-Boys.png
ORGANIZER;CN="Rockwall CAC":MAILTO:sryan@rockwallcac.org
END:VEVENT
END:VCALENDAR